BEGIN:VCALENDAR
VERSION:2.0
PRODID:-//inExcelsis - ECPv6.15.16.1//NONSGML v1.0//EN
CALSCALE:GREGORIAN
METHOD:PUBLISH
X-WR-CALNAME:inExcelsis
X-ORIGINAL-URL:https://inexcelsislove.org
X-WR-CALDESC:Events for inExcelsis
REFRESH-INTERVAL;VALUE=DURATION:PT1H
X-Robots-Tag:noindex
X-PUBLISHED-TTL:PT1H
BEGIN:VTIMEZONE
TZID:America/Chicago
BEGIN:DAYLIGHT
TZOFFSETFROM:-0600
TZOFFSETTO:-0500
TZNAME:CDT
DTSTART:20250309T080000
END:DAYLIGHT
BEGIN:STANDARD
TZOFFSETFROM:-0500
TZOFFSETTO:-0600
TZNAME:CST
DTSTART:20251102T070000
END:STANDARD
BEGIN:DAYLIGHT
TZOFFSETFROM:-0600
TZOFFSETTO:-0500
TZNAME:CDT
DTSTART:20260308T080000
END:DAYLIGHT
BEGIN:STANDARD
TZOFFSETFROM:-0500
TZOFFSETTO:-0600
TZNAME:CST
DTSTART:20261101T070000
END:STANDARD
BEGIN:DAYLIGHT
TZOFFSETFROM:-0600
TZOFFSETTO:-0500
TZNAME:CDT
DTSTART:20270314T080000
END:DAYLIGHT
BEGIN:STANDARD
TZOFFSETFROM:-0500
TZOFFSETTO:-0600
TZNAME:CST
DTSTART:20271107T070000
END:STANDARD
END:VTIMEZONE
BEGIN:VEVENT
DTSTART;TZID=America/Chicago:20260502T083000
DTEND;TZID=America/Chicago:20260502T120000
DTSTAMP:20260423T142054
CREATED:20260111T194633Z
LAST-MODIFIED:20260323T165014Z
UID:876-1777710600-1777723200@inexcelsislove.org
SUMMARY:Community Fellowship (ComFe) — Homeless Outreach & Volunteer Opportunity in St. Louis
DESCRIPTION:Volunteer St. Louis — Weekly Saturday Unhoused Outreach\nCommunity Fellowship (ComFe) is a weekly Saturday outreach hosted by inExcelsis in St. Louis. We welcome neighbors experiencing homelessness with dignity\, hospitality\, and relationship-first fellowship—and we invite volunteers who want to serve consistently and meaningfully. \nSaturday Schedule\n\n\nVolunteer check-in: 8:30 AM \n\n\nTeam huddle / briefing: 8:45–9:00 AM (required) \n\n\nComFe service window: 9:00 AM–12:00 PM \n\n\nHow You’ll Serve (Volunteer Lanes)\nVolunteers are placed into clear lanes so the morning stays calm\, fair\, and effective: \n\n\nHospitality (coffee/breakfast) \n\n\nFellowship support (conversation + simple games) \n\n\nBoutique support on shopping weeks (paired with trained leads) \n\n\nLunch prep & serving (when scheduled) \n\n\nSetup / cleanup + flow support \n\n\nFirst Time Volunteering?\nIf you’re new\, please arrive at 8:30 AM for a short orientation so we can assign you to the best lane and start on time. \nReady to volunteer in St. Louis?Use the Event Website button to learn more and sign up: inexcelsislove.org/comfe
URL:https://inexcelsislove.org/event/community-fellowship-volunteer-st-louis/
LOCATION:inExcelsis Outreach Center\, 4265 Shaw Blvd.\, St. Louis\, MO\, 63110\, United States
CATEGORIES:ComFe
ATTACH;FMTTYPE=image/jpeg:https://inexcelsislove.org/wp-content/uploads/2026/01/1-e1768882866569.jpg
ORGANIZER;CN="INEXCELSIS":MAILTO:serve@inexcelsislove.org
END:VEVENT
END:VCALENDAR